BEGIN:VCALENDAR
VERSION:2.0
PRODID:-//EOD Warrior Foundation - ECPv6.15.17.1//NONSGML v1.0//EN
CALSCALE:GREGORIAN
METHOD:PUBLISH
X-WR-CALNAME:EOD Warrior Foundation
X-ORIGINAL-URL:https://eod-wf.org
X-WR-CALDESC:Events for EOD Warrior Foundation
REFRESH-INTERVAL;VALUE=DURATION:PT1H
X-Robots-Tag:noindex
X-PUBLISHED-TTL:PT1H
BEGIN:VTIMEZONE
TZID:America/New_York
BEGIN:DAYLIGHT
TZOFFSETFROM:-0500
TZOFFSETTO:-0400
TZNAME:EDT
DTSTART:20240310T070000
END:DAYLIGHT
BEGIN:STANDARD
TZOFFSETFROM:-0400
TZOFFSETTO:-0500
TZNAME:EST
DTSTART:20241103T060000
END:STANDARD
BEGIN:DAYLIGHT
TZOFFSETFROM:-0500
TZOFFSETTO:-0400
TZNAME:EDT
DTSTART:20250309T070000
END:DAYLIGHT
BEGIN:STANDARD
TZOFFSETFROM:-0400
TZOFFSETTO:-0500
TZNAME:EST
DTSTART:20251102T060000
END:STANDARD
BEGIN:DAYLIGHT
TZOFFSETFROM:-0500
TZOFFSETTO:-0400
TZNAME:EDT
DTSTART:20260308T070000
END:DAYLIGHT
BEGIN:STANDARD
TZOFFSETFROM:-0400
TZOFFSETTO:-0500
TZNAME:EST
DTSTART:20261101T060000
END:STANDARD
END:VTIMEZONE
BEGIN:VEVENT
DTSTART;TZID=America/New_York:20250419T170000
DTEND;TZID=America/New_York:20250419T200000
DTSTAMP:20260425T062932
CREATED:20250331T215115Z
LAST-MODIFIED:20250401T034124Z
UID:2588-1745082000-1745092800@eod-wf.org
SUMMARY:Night of Music - EOD Warrior Foundation
DESCRIPTION:🎶 Night of Music – EOD Warrior Foundation 🎶 \nJoin us for a Night of Music on April 19\, 2025\, at 5:00 PM at the EOD Warrior Foundation in Niceville\, FL! \nThis monthly gathering is a chance to come together as a community\, enjoy live performances by local EOD Techs and friends\, and celebrate the power of music. Whether you’re a musician\, a supporter\, or just looking for a great evening\, this event is for you! \n🎵 What to Expect:🎤 Live music performed by EOD Techs and friends🍽️ Food and beverages provided🎶 A welcoming and fun atmosphere for all \nCome relax\, connect\, and enjoy an evening of great tunes with the EOD Family. We can’t wait to see you there!
URL:https://eod-wf.org/event/night-of-music-eod-warrior-foundation/
LOCATION:EOD Warrior Foundation\, 716 Crestview Ave\, Niceville\, FL\, 32578\, United States
CATEGORIES:Concert
ATTACH;FMTTYPE=image/webp:https://eod-wf.org/wp-content/uploads/2025/03/Beige-and-Orange-Modern-Illustration-International-Music-Day-Flyer-Card-Square.webp
ORGANIZER;CN="EOD Warrior Foundation":MAILTO:info@eod-wf.org
END:VEVENT
END:VCALENDAR