BEGIN:VCALENDAR
VERSION:2.0
PRODID:-//EOD Warrior Foundation - ECPv6.15.17.1//NONSGML v1.0//EN
CALSCALE:GREGORIAN
METHOD:PUBLISH
X-WR-CALNAME:EOD Warrior Foundation
X-ORIGINAL-URL:https://eod-wf.org
X-WR-CALDESC:Events for EOD Warrior Foundation
REFRESH-INTERVAL;VALUE=DURATION:PT1H
X-Robots-Tag:noindex
X-PUBLISHED-TTL:PT1H
BEGIN:VTIMEZONE
TZID:America/Chicago
BEGIN:DAYLIGHT
TZOFFSETFROM:-0600
TZOFFSETTO:-0500
TZNAME:CDT
DTSTART:20250309T080000
END:DAYLIGHT
BEGIN:STANDARD
TZOFFSETFROM:-0500
TZOFFSETTO:-0600
TZNAME:CST
DTSTART:20251102T070000
END:STANDARD
BEGIN:DAYLIGHT
TZOFFSETFROM:-0600
TZOFFSETTO:-0500
TZNAME:CDT
DTSTART:20260308T080000
END:DAYLIGHT
BEGIN:STANDARD
TZOFFSETFROM:-0500
TZOFFSETTO:-0600
TZNAME:CST
DTSTART:20261101T070000
END:STANDARD
BEGIN:DAYLIGHT
TZOFFSETFROM:-0600
TZOFFSETTO:-0500
TZNAME:CDT
DTSTART:20270314T080000
END:DAYLIGHT
BEGIN:STANDARD
TZOFFSETFROM:-0500
TZOFFSETTO:-0600
TZNAME:CST
DTSTART:20271107T070000
END:STANDARD
END:VTIMEZONE
BEGIN:VEVENT
DTSTART;TZID=America/Chicago:20260314T170000
DTEND;TZID=America/Chicago:20260314T200000
DTSTAMP:20260425T112112
CREATED:20260225T233113Z
LAST-MODIFIED:20260225T233113Z
UID:4233-1773507600-1773518400@eod-wf.org
SUMMARY:EOD Concert - Controlled Detonation
DESCRIPTION:Saturday\, March 14th | 5:00–8:00 PMNiceville Community Center204 Partin Drive NorthNiceville\, FL \nGet ready — Controlled Detonation is taking the stage for a night that’s bigger than music. \nThis isn’t just a concert. It’s a celebration of courage\, confidence\, and resilience. \nFree admission. Donations appreciated. Light snacks/refreshments provided. \nEach note played represents something powerful: self-belief\, adaptability\, and the strength to step forward — even when it’s hard. This event shines a spotlight on growth\, discovery\, and the courage it takes to show up fully. \nJoin us for an inspiring evening of music\, community\, and momentum. Let’s turn up the volume and celebrate what it means to keep moving forward. \n🎟️ Mark your calendar and bring a friend — this is a night you won’t want to miss.
URL:https://eod-wf.org/event/eod-concert-controlled-detonation/
LOCATION:Niceville Community Center\, 204 Partin Drive North\, Niceville\, FL\, 32578\, United States
CATEGORIES:Concert
ATTACH;FMTTYPE=image/png:https://eod-wf.org/wp-content/uploads/2026/02/EOD-Concert-Instagram-Post.png
ORGANIZER;CN="EOD Warrior Foundation":MAILTO:info@eod-wf.org
END:VEVENT
END:VCALENDAR