BEGIN:VCALENDAR
VERSION:2.0
PRODID:-//EOD Warrior Foundation - ECPv6.15.17.1//NONSGML v1.0//EN
CALSCALE:GREGORIAN
METHOD:PUBLISH
X-WR-CALNAME:EOD Warrior Foundation
X-ORIGINAL-URL:https://eod-wf.org
X-WR-CALDESC:Events for EOD Warrior Foundation
REFRESH-INTERVAL;VALUE=DURATION:PT1H
X-Robots-Tag:noindex
X-PUBLISHED-TTL:PT1H
BEGIN:VTIMEZONE
TZID:America/New_York
BEGIN:DAYLIGHT
TZOFFSETFROM:-0500
TZOFFSETTO:-0400
TZNAME:EDT
DTSTART:20240310T070000
END:DAYLIGHT
BEGIN:STANDARD
TZOFFSETFROM:-0400
TZOFFSETTO:-0500
TZNAME:EST
DTSTART:20241103T060000
END:STANDARD
BEGIN:DAYLIGHT
TZOFFSETFROM:-0500
TZOFFSETTO:-0400
TZNAME:EDT
DTSTART:20250309T070000
END:DAYLIGHT
BEGIN:STANDARD
TZOFFSETFROM:-0400
TZOFFSETTO:-0500
TZNAME:EST
DTSTART:20251102T060000
END:STANDARD
BEGIN:DAYLIGHT
TZOFFSETFROM:-0500
TZOFFSETTO:-0400
TZNAME:EDT
DTSTART:20260308T070000
END:DAYLIGHT
BEGIN:STANDARD
TZOFFSETFROM:-0400
TZOFFSETTO:-0500
TZNAME:EST
DTSTART:20261101T060000
END:STANDARD
END:VTIMEZONE
BEGIN:VEVENT
DTSTART;TZID=America/New_York:20250502T070000
DTEND;TZID=America/New_York:20250502T120000
DTSTAMP:20260424T171642
CREATED:20250331T215721Z
LAST-MODIFIED:20250401T034307Z
UID:2593-1746169200-1746187200@eod-wf.org
SUMMARY:Golf Tournament - EOD Weekend
DESCRIPTION:Register your team here! \nFriday May 2\, 2025 – Registration opens 7:00am\, 8:00am shotgun start \nGator Lakes Golf Course\n403 Walkup Way\, Bldg. 91300\nHurlburt Field\nNOTE: Gator Lakes Golf Club is an Air Force Services Facility open to Active Duty Military and their dependents\, Armed Forces Retirees and their families\, Department of Defense employees and family members and Civilians with passes from the visitor center. Civilian guests may receive a 6-month pass at the visitor center or through EOD Warrior Foundation by submitting the Golf Affidavit.  Once access is approved\, patrons must enter through Hurlburt Field’s East Gate. \nHave a great day on the course with fellow EOD Warriors and those who support this amazing community\, benefitting the EOD Warrior Foundation \nRegister here!
URL:https://eod-wf.org/event/golf-tournament-eod-weekend/
LOCATION:Gator Lakes Golf Course\, 403 Walkup Way\, Building 91300\, Hurlburt Field\, FL\, 32544\, United States
CATEGORIES:EOD Weekend,Golf
ATTACH;FMTTYPE=image/jpeg:https://eod-wf.org/wp-content/uploads/2025/03/Golf-Tournament-sold-out.jpg
ORGANIZER;CN="EOD Warrior Foundation":MAILTO:info@eod-wf.org
END:VEVENT
END:VCALENDAR